BEGIN:VCALENDAR
VERSION:2.0
PRODID:-//Highline Spirits - ECPv6.15.15//NONSGML v1.0//EN
CALSCALE:GREGORIAN
METHOD:PUBLISH
X-WR-CALNAME:Highline Spirits
X-ORIGINAL-URL:https://highlinespirits.com
X-WR-CALDESC:Events for Highline Spirits
REFRESH-INTERVAL;VALUE=DURATION:PT1H
X-Robots-Tag:noindex
X-PUBLISHED-TTL:PT1H
BEGIN:VTIMEZONE
TZID:UTC
BEGIN:STANDARD
TZOFFSETFROM:+0000
TZOFFSETTO:+0000
TZNAME:UTC
DTSTART:20230101T000000
END:STANDARD
END:VTIMEZONE
BEGIN:VEVENT
DTSTART;TZID=UTC:20240406T190000
DTEND;TZID=UTC:20240406T220000
DTSTAMP:20260423T191024
CREATED:20240304T224333Z
LAST-MODIFIED:20240304T224511Z
UID:10000043-1712430000-1712440800@highlinespirits.com
SUMMARY:Live Music featuring Mike Freeman
DESCRIPTION:Don’t miss the musical talents of Mike Freeman at The Dexter Highline Room. Grab a friend or loved one and join us for a night of great drinks and live music!
URL:https://highlinespirits.com/event/live-music-featuring-mike-freeman/
LOCATION:The Highline Room at Dexter\, 3126 BROAD ST. SUITE 201\, Dexter\, MI\, 48130\, United States
CATEGORIES:Entertainment,Live Music
END:VEVENT
BEGIN:VEVENT
DTSTART;TZID=UTC:20240413T190000
DTEND;TZID=UTC:20240413T220000
DTSTAMP:20260423T191024
CREATED:20240304T224612Z
LAST-MODIFIED:20240304T224612Z
UID:10000044-1713034800-1713045600@highlinespirits.com
SUMMARY:Live Music featuring John Germain
DESCRIPTION:Don’t miss the musical talents of John Germain at The Dexter Highline Room. Grab a friend or loved one and join us for a night of great drinks and live music!
URL:https://highlinespirits.com/event/live-music-featuring-john-germain-2/
LOCATION:The Highline Room at Dexter\, 3126 BROAD ST. SUITE 201\, Dexter\, MI\, 48130\, United States
CATEGORIES:Entertainment,Live Music
END:VEVENT
BEGIN:VEVENT
DTSTART;TZID=UTC:20240420T190000
DTEND;TZID=UTC:20240420T220000
DTSTAMP:20260423T191024
CREATED:20240304T224729Z
LAST-MODIFIED:20240304T224729Z
UID:10000045-1713639600-1713650400@highlinespirits.com
SUMMARY:Live Music featuring James Muto
DESCRIPTION:Don’t miss the musical talents of James Muto at The Dexter Highline Room. Grab a friend or loved one and join us for a night of great drinks and live music!
URL:https://highlinespirits.com/event/live-music-featuring-james-muto-2/
LOCATION:MI
CATEGORIES:Entertainment,Live Music
END:VEVENT
BEGIN:VEVENT
DTSTART;TZID=UTC:20240427T190000
DTEND;TZID=UTC:20240427T220000
DTSTAMP:20260423T191024
CREATED:20240304T224842Z
LAST-MODIFIED:20240304T224842Z
UID:10000046-1714244400-1714255200@highlinespirits.com
SUMMARY:Live Music featuring Steve Taylor
DESCRIPTION:Don’t miss the musical talents of Steve Taylor at The Dexter Highline Room. Grab a friend or loved one and join us for a night of great drinks and live music!
URL:https://highlinespirits.com/event/live-music-featuring-steve-taylor/
LOCATION:The Highline Room at Dexter\, 3126 BROAD ST. SUITE 201\, Dexter\, MI\, 48130\, United States
CATEGORIES:Entertainment,Live Music
END:VEVENT
END:VCALENDAR