BEGIN:VCALENDAR
VERSION:2.0
PRODID:-//Highline Spirits - ECPv6.15.15//NONSGML v1.0//EN
CALSCALE:GREGORIAN
METHOD:PUBLISH
X-ORIGINAL-URL:https://highlinespirits.com
X-WR-CALDESC:Events for Highline Spirits
REFRESH-INTERVAL;VALUE=DURATION:PT1H
X-Robots-Tag:noindex
X-PUBLISHED-TTL:PT1H
BEGIN:VTIMEZONE
TZID:UTC
BEGIN:STANDARD
TZOFFSETFROM:+0000
TZOFFSETTO:+0000
TZNAME:UTC
DTSTART:20230101T000000
END:STANDARD
END:VTIMEZONE
BEGIN:VEVENT
DTSTART;TZID=UTC:20240907T190000
DTEND;TZID=UTC:20240907T220000
DTSTAMP:20260423T115434
CREATED:20240304T231308Z
LAST-MODIFIED:20240304T232005Z
UID:10000064-1725735600-1725746400@highlinespirits.com
SUMMARY:Live Music featuring Joe Hassel
DESCRIPTION:Don’t miss the musical talents of Joe Hassel at The Dexter Highline Room. Grab a friend or loved one and join us for a night of great drinks and live music!
URL:https://highlinespirits.com/event/live-music-featuring-joe-hassel/
LOCATION:The Highline Room at Dexter\, 3126 BROAD ST. SUITE 201\, Dexter\, MI\, 48130\, United States
CATEGORIES:Entertainment,Live Music
END:VEVENT
BEGIN:VEVENT
DTSTART;TZID=UTC:20240907T190000
DTEND;TZID=UTC:20240907T220000
DTSTAMP:20260423T115434
CREATED:20240605T180223Z
LAST-MODIFIED:20240605T180223Z
UID:10000114-1725735600-1725746400@highlinespirits.com
SUMMARY:Live Music - James Muto
DESCRIPTION:Enjoy the musical stylings of James Muto at The Highline Room – Plymouth from 7-10pm
URL:https://highlinespirits.com/event/live-music-james-muto-2/
LOCATION:The Highline Room – Plymouth\, 330 S. Main St.\, Plymouth\, MI\, 48170\, United States
CATEGORIES:Live Music
END:VEVENT
BEGIN:VEVENT
DTSTART;TZID=UTC:20240914T190000
DTEND;TZID=UTC:20240914T220000
DTSTAMP:20260423T115434
CREATED:20240304T231356Z
LAST-MODIFIED:20240304T232340Z
UID:10000065-1726340400-1726351200@highlinespirits.com
SUMMARY:Live Music featuring Devyn Mitchell
DESCRIPTION:Don’t miss the musical talents of Devyn Mitchell at The Dexter Highline Room. Grab a friend or loved one and join us for a night of great drinks and live music!
URL:https://highlinespirits.com/event/live-music-featuring-devyn-mitchell-3/
LOCATION:The Highline Room at Dexter\, 3126 BROAD ST. SUITE 201\, Dexter\, MI\, 48130\, United States
CATEGORIES:Entertainment,Live Music
END:VEVENT
BEGIN:VEVENT
DTSTART;TZID=UTC:20240921T080000
DTEND;TZID=UTC:20240921T170000
DTSTAMP:20260423T115435
CREATED:20240304T231445Z
LAST-MODIFIED:20240304T231445Z
UID:10000066-1726905600-1726938000@highlinespirits.com
SUMMARY:Live Music featuring John Germain
DESCRIPTION:Don’t miss the musical talents of John Germain at The Dexter Highline Room. Grab a friend or loved one and join us for a night of great drinks and live music!
URL:https://highlinespirits.com/event/live-music-featuring-john-germain-7/
LOCATION:The Highline Room at Dexter\, 3126 BROAD ST. SUITE 201\, Dexter\, MI\, 48130\, United States
CATEGORIES:Entertainment,Live Music
END:VEVENT
BEGIN:VEVENT
DTSTART;TZID=UTC:20240928T190000
DTEND;TZID=UTC:20240928T220000
DTSTAMP:20260423T115435
CREATED:20240304T231620Z
LAST-MODIFIED:20240515T173005Z
UID:10000067-1727550000-1727560800@highlinespirits.com
SUMMARY:Live Music featuring James Muto
DESCRIPTION:Don’t miss the musical talents of James Muto at The Dexter Highline Room. Grab a friend or loved one and join us for a night of great drinks and live music!
URL:https://highlinespirits.com/event/live-music-featuring-amy-grace-4/
LOCATION:The Highline Room at Dexter\, 3126 BROAD ST. SUITE 201\, Dexter\, MI\, 48130\, United States
CATEGORIES:Entertainment,Live Music
END:VEVENT
END:VCALENDAR