BEGIN:VCALENDAR
VERSION:2.0
PRODID:-//Highline Spirits - ECPv6.15.15//NONSGML v1.0//EN
CALSCALE:GREGORIAN
METHOD:PUBLISH
X-ORIGINAL-URL:https://highlinespirits.com
X-WR-CALDESC:Events for Highline Spirits
REFRESH-INTERVAL;VALUE=DURATION:PT1H
X-Robots-Tag:noindex
X-PUBLISHED-TTL:PT1H
BEGIN:VTIMEZONE
TZID:UTC
BEGIN:STANDARD
TZOFFSETFROM:+0000
TZOFFSETTO:+0000
TZNAME:UTC
DTSTART:20240101T000000
END:STANDARD
END:VTIMEZONE
BEGIN:VEVENT
DTSTART;TZID=UTC:20250118T190000
DTEND;TZID=UTC:20250118T220000
DTSTAMP:20260423T054145
CREATED:20250109T183323Z
LAST-MODIFIED:20250109T183323Z
UID:10000191-1737226800-1737237600@highlinespirits.com
SUMMARY:Live Music - Ben Awrey
DESCRIPTION:
URL:https://highlinespirits.com/event/live-music-ben-awrey-5/
LOCATION:The Highline Room at Dexter\, 3126 BROAD ST. SUITE 201\, Dexter\, MI\, 48130\, United States
CATEGORIES:Dexter,Entertainment,Live Music
END:VEVENT
BEGIN:VEVENT
DTSTART;TZID=UTC:20250125T190000
DTEND;TZID=UTC:20250125T220000
DTSTAMP:20260423T054145
CREATED:20250109T183243Z
LAST-MODIFIED:20250109T183243Z
UID:10000190-1737831600-1737842400@highlinespirits.com
SUMMARY:Live Music - John Germain
DESCRIPTION:
URL:https://highlinespirits.com/event/live-music-john-germain-7/
LOCATION:The Highline Room at Dexter\, 3126 BROAD ST. SUITE 201\, Dexter\, MI\, 48130\, United States
CATEGORIES:Dexter,Entertainment,Live Music
END:VEVENT
END:VCALENDAR