BEGIN:VCALENDAR
VERSION:2.0
PRODID:-//Highline Spirits - ECPv6.15.15//NONSGML v1.0//EN
CALSCALE:GREGORIAN
METHOD:PUBLISH
X-ORIGINAL-URL:https://highlinespirits.com
X-WR-CALDESC:Events for Highline Spirits
REFRESH-INTERVAL;VALUE=DURATION:PT1H
X-Robots-Tag:noindex
X-PUBLISHED-TTL:PT1H
BEGIN:VTIMEZONE
TZID:UTC
BEGIN:STANDARD
TZOFFSETFROM:+0000
TZOFFSETTO:+0000
TZNAME:UTC
DTSTART:20230101T000000
END:STANDARD
END:VTIMEZONE
BEGIN:VEVENT
DTSTART;TZID=UTC:20241026T190000
DTEND;TZID=UTC:20241026T220000
DTSTAMP:20260423T115638
CREATED:20240304T231840Z
LAST-MODIFIED:20240304T231840Z
UID:10000069-1729969200-1729980000@highlinespirits.com
SUMMARY:Live Music featuring Jamison Jones
DESCRIPTION:Don’t miss the musical talents of Jamison Jones at The Dexter Highline Room. Grab a friend or loved one and join us for a night of great drinks and live music!
URL:https://highlinespirits.com/event/live-music-featuring-jamison-jones-3/
LOCATION:The Highline Room at Dexter\, 3126 BROAD ST. SUITE 201\, Dexter\, MI\, 48130\, United States
CATEGORIES:Entertainment,Live Music
END:VEVENT
END:VCALENDAR