BEGIN:VCALENDAR
VERSION:2.0
PRODID:-//Highline Spirits - ECPv6.15.15//NONSGML v1.0//EN
CALSCALE:GREGORIAN
METHOD:PUBLISH
X-ORIGINAL-URL:https://highlinespirits.com
X-WR-CALDESC:Events for Highline Spirits
REFRESH-INTERVAL;VALUE=DURATION:PT1H
X-Robots-Tag:noindex
X-PUBLISHED-TTL:PT1H
BEGIN:VTIMEZONE
TZID:UTC
BEGIN:STANDARD
TZOFFSETFROM:+0000
TZOFFSETTO:+0000
TZNAME:UTC
DTSTART:20220101T000000
END:STANDARD
END:VTIMEZONE
BEGIN:VEVENT
DTSTART;VALUE=DATE:20231214
DTEND;VALUE=DATE:20231215
DTSTAMP:20260422T215327
CREATED:20231019T214917Z
LAST-MODIFIED:20231120T231847Z
UID:10000019-1702512000-1702598399@highlinespirits.com
SUMMARY:Food: EK Cheesecakes
DESCRIPTION:
URL:https://www.ekcheesecakes.com/#new_tab
LOCATION:MI
CATEGORIES:Food Truck
END:VEVENT
END:VCALENDAR