BEGIN:VCALENDAR
VERSION:2.0
PRODID:-//Highline Spirits - ECPv6.15.15//NONSGML v1.0//EN
CALSCALE:GREGORIAN
METHOD:PUBLISH
X-WR-CALNAME:Highline Spirits
X-ORIGINAL-URL:https://highlinespirits.com
X-WR-CALDESC:Events for Highline Spirits
REFRESH-INTERVAL;VALUE=DURATION:PT1H
X-Robots-Tag:noindex
X-PUBLISHED-TTL:PT1H
BEGIN:VTIMEZONE
TZID:UTC
BEGIN:STANDARD
TZOFFSETFROM:+0000
TZOFFSETTO:+0000
TZNAME:UTC
DTSTART:20230101T000000
END:STANDARD
END:VTIMEZONE
BEGIN:VEVENT
DTSTART;TZID=UTC:20240317T120000
DTEND;TZID=UTC:20240317T190000
DTSTAMP:20260422T171842
CREATED:20240304T222950Z
LAST-MODIFIED:20240304T222950Z
UID:10000037-1710676800-1710702000@highlinespirits.com
SUMMARY:St. Patrick's Day Brunch and Cocktails
DESCRIPTION:Come Join us at The Highline Room – Dexter to celebrate St. Patrick’s day on March 17th!  Highline is hosting Vegano’s Food Truck onsite for Brunch from 12-4pm.  Come enjoy the festivities with craft cocktails and our award winning whiskey! \nHighlighting Highline’s award winning spirits\, seasonal craft cocktails and specialty cocktails developed exclusively for St. Patrick’s Day festivities\, come celebrate by savoring Vegano’s delicious brunch offerings. \nCraft Cocktail
URL:https://highlinespirits.com/event/st-patricks-day-brunch-and-cocktails/
LOCATION:The Highline Room at Dexter\, 3126 BROAD ST. SUITE 201\, Dexter\, MI\, 48130\, United States
CATEGORIES:Food Truck
END:VEVENT
END:VCALENDAR