BEGIN:VCALENDAR
VERSION:2.0
PRODID:-//Highline Spirits - ECPv6.15.15//NONSGML v1.0//EN
CALSCALE:GREGORIAN
METHOD:PUBLISH
X-ORIGINAL-URL:https://highlinespirits.com
X-WR-CALDESC:Events for Highline Spirits
REFRESH-INTERVAL;VALUE=DURATION:PT1H
X-Robots-Tag:noindex
X-PUBLISHED-TTL:PT1H
BEGIN:VTIMEZONE
TZID:UTC
BEGIN:STANDARD
TZOFFSETFROM:+0000
TZOFFSETTO:+0000
TZNAME:UTC
DTSTART:20230101T000000
END:STANDARD
END:VTIMEZONE
BEGIN:VEVENT
DTSTART;TZID=UTC:20240405T160000
DTEND;TZID=UTC:20240405T210000
DTSTAMP:20260422T155016
CREATED:20240304T224215Z
LAST-MODIFIED:20240304T233455Z
UID:10000042-1712332800-1712350800@highlinespirits.com
SUMMARY:Pure Mitten BBQ Food Truck
DESCRIPTION:Visit The Highline Room – Dexter to enjoy Pure Mitten BBQ Food Truck from 4-9pm. \nAbout: Pure Mitten BBQ is family owned and operated.  We smoke our meats using hickory wood for melt in your mouth perfection. Pitmaster Anthony spent years perfecting his recipes. We want to share our mouthwatering BBQ with the fine people of Metro Detroit. \nhttps://www.facebook.com/puremittenbbq/
URL:https://highlinespirits.com/event/pure-mitten-bbq-food-truck/
LOCATION:The Highline Room at Dexter\, 3126 BROAD ST. SUITE 201\, Dexter\, MI\, 48130\, United States
CATEGORIES:Food,Food Truck
END:VEVENT
BEGIN:VEVENT
DTSTART;TZID=UTC:20240412T160000
DTEND;TZID=UTC:20240412T210000
DTSTAMP:20260422T155016
CREATED:20240304T233839Z
LAST-MODIFIED:20240304T234005Z
UID:10000070-1712937600-1712955600@highlinespirits.com
SUMMARY:Delactabowl Food Truck at Highline - Dexter
DESCRIPTION:Start with a bowl. Combine fresh\, wholesome ingredients with scratch-cooking and love.A Delectabowl is a delicious\, satisfying\, home-cooked meal.\nIn a bowl.\nhttps://www.delectabowl.com/
URL:https://highlinespirits.com/event/delactabowl-food-truck-at-highline-dexter/
LOCATION:The Highline Room at Dexter\, 3126 BROAD ST. SUITE 201\, Dexter\, MI\, 48130\, United States
CATEGORIES:Food,Food Truck
END:VEVENT
BEGIN:VEVENT
DTSTART;TZID=UTC:20240419T160000
DTEND;TZID=UTC:20240419T210000
DTSTAMP:20260422T155016
CREATED:20240304T234142Z
LAST-MODIFIED:20240304T234142Z
UID:10000071-1713542400-1713560400@highlinespirits.com
SUMMARY:Whoa Taco's Food Truck at Highline
DESCRIPTION:¡WHOA! Tacos \n\n\nStreet Food Truck – Fresh Tacos Elevated
URL:https://highlinespirits.com/event/whoa-tacos-food-truck-at-highline/
LOCATION:The Highline Room at Dexter\, 3126 BROAD ST. SUITE 201\, Dexter\, MI\, 48130\, United States
CATEGORIES:Food,Food Truck
END:VEVENT
BEGIN:VEVENT
DTSTART;TZID=UTC:20240426T160000
DTEND;TZID=UTC:20240426T210000
DTSTAMP:20260422T155016
CREATED:20240304T234434Z
LAST-MODIFIED:20240304T234434Z
UID:10000072-1714147200-1714165200@highlinespirits.com
SUMMARY:Shimmy Shack at Highline
DESCRIPTION:Welcome to Shimmy Shack! We roll as Michigan’s first and only 100% vegan and gluten free food truck (but you’d never know it from how tasty and sexy our food is!).  Omnivores\, Flexitarians\, Vegetarians and Vegans ALL love our food and we have proof.   Shimmy Shack is all about reducing animal suffering\, making a healthier food choice for your insides and outside and having a positive impact on the environment.  Every time you come to Shimmy Shack you are doing all three of these things and we love it!  Not to mention that we are removing the stigma attached to the word ‘vegan’ and showing how awesome\, tasty\, sexy and filling vegan food can be.  We’ve been told our food is seriously addicting. See our menu here.  So shuffle\, shake or shimmy over to see us and try some delish eats!! 100% VEGAN AND 100% GLUTEN FREE!!  See our world-changing vision and mission by clicking here.  Have a Shimmylicious Day!  XOXO\,  Shimmy Mama \n  \nWelcome!
URL:https://highlinespirits.com/event/shimmy-shack-at-highline/
LOCATION:The Highline Room at Dexter\, 3126 BROAD ST. SUITE 201\, Dexter\, MI\, 48130\, United States
CATEGORIES:Food,Food Truck
END:VEVENT
END:VCALENDAR