BEGIN:VCALENDAR
VERSION:2.0
PRODID:-//Highline Spirits - ECPv6.15.15//NONSGML v1.0//EN
CALSCALE:GREGORIAN
METHOD:PUBLISH
X-ORIGINAL-URL:https://highlinespirits.com
X-WR-CALDESC:Events for Highline Spirits
REFRESH-INTERVAL;VALUE=DURATION:PT1H
X-Robots-Tag:noindex
X-PUBLISHED-TTL:PT1H
BEGIN:VTIMEZONE
TZID:UTC
BEGIN:STANDARD
TZOFFSETFROM:+0000
TZOFFSETTO:+0000
TZNAME:UTC
DTSTART:20230101T000000
END:STANDARD
END:VTIMEZONE
BEGIN:VEVENT
DTSTART;TZID=UTC:20240503T160000
DTEND;TZID=UTC:20240503T210000
DTSTAMP:20260422T195249
CREATED:20240304T234608Z
LAST-MODIFIED:20240304T234641Z
UID:10000073-1714752000-1714770000@highlinespirits.com
SUMMARY:Craveable Food Truck at Highline
DESCRIPTION:Plant based\, for everyone’s taste\n\n\n\n\nWe are Craveable Food Trailer\, serving delicious vegan comfort food including over the top burgers\, loaded bowls and wonderful desserts. We have everything you’re craving! \nBased in Jackson\, Michigan\, serving southern and central Michigan. \nOur mission is to provide delicious\, healthy options to all people\, vegan and non-vegan\, showing the world that plant-based food can be satisfying for all! \n\n\nhttps://www.craveablefoodtrailer.com/
URL:https://highlinespirits.com/event/craveable-food-truck-at-highline/
LOCATION:The Highline Room at Dexter\, 3126 BROAD ST. SUITE 201\, Dexter\, MI\, 48130\, United States
CATEGORIES:Food,Food Truck
END:VEVENT
END:VCALENDAR