BEGIN:VCALENDAR
VERSION:2.0
PRODID:-//Highline Spirits - ECPv6.15.15//NONSGML v1.0//EN
CALSCALE:GREGORIAN
METHOD:PUBLISH
X-ORIGINAL-URL:https://highlinespirits.com
X-WR-CALDESC:Events for Highline Spirits
REFRESH-INTERVAL;VALUE=DURATION:PT1H
X-Robots-Tag:noindex
X-PUBLISHED-TTL:PT1H
BEGIN:VTIMEZONE
TZID:UTC
BEGIN:STANDARD
TZOFFSETFROM:+0000
TZOFFSETTO:+0000
TZNAME:UTC
DTSTART:20230101T000000
END:STANDARD
END:VTIMEZONE
BEGIN:VEVENT
DTSTART;TZID=UTC:20240802T160000
DTEND;TZID=UTC:20240802T210000
DTSTAMP:20260422T112247
CREATED:20240305T000607Z
LAST-MODIFIED:20240305T000607Z
UID:10000086-1722614400-1722632400@highlinespirits.com
SUMMARY:Pure Mitten BBQ Food Truck at Highline
DESCRIPTION:Pure Mitten BBQ is family owned and operated. We smoke our meats using hickory wood for melt in your mouth perfection. Pitmaster Anthony has been smoking low and slow perfecting his recipes for years. We want to share our mouthwatering BBQ with the fine people of Metro Detroit. If you don’t see what you like\, no problem. We cater all types of food\, breakfast\, lunch or dinner and will modify our menu to fit your needs. Get that Pure Mitten BBQ in your life\, cheers!!! \nhttps://yourneighborhoodbites.com/detroit/trucks/pure-mitten-bbq
URL:https://highlinespirits.com/event/pure-mitten-bbq-food-truck-at-highline-2/
LOCATION:The Highline Room at Dexter\, 3126 BROAD ST. SUITE 201\, Dexter\, MI\, 48130\, United States
CATEGORIES:Food,Food Truck
END:VEVENT
END:VCALENDAR