BEGIN:VCALENDAR
VERSION:2.0
PRODID:-//Highline Spirits - ECPv6.15.15//NONSGML v1.0//EN
CALSCALE:GREGORIAN
METHOD:PUBLISH
X-ORIGINAL-URL:https://highlinespirits.com
X-WR-CALDESC:Events for Highline Spirits
REFRESH-INTERVAL;VALUE=DURATION:PT1H
X-Robots-Tag:noindex
X-PUBLISHED-TTL:PT1H
BEGIN:VTIMEZONE
TZID:UTC
BEGIN:STANDARD
TZOFFSETFROM:+0000
TZOFFSETTO:+0000
TZNAME:UTC
DTSTART:20230101T000000
END:STANDARD
END:VTIMEZONE
BEGIN:VEVENT
DTSTART;TZID=UTC:20240816T160000
DTEND;TZID=UTC:20240816T210000
DTSTAMP:20260422T112244
CREATED:20240305T001202Z
LAST-MODIFIED:20240305T002409Z
UID:10000088-1723824000-1723842000@highlinespirits.com
SUMMARY:VeganoItaliano Food Truck at Highline
DESCRIPTION:100% Vegan Italian Food Truck \nPizza\, Pastas and Baked Goods \nVegan Italian Food Truck
URL:https://highlinespirits.com/event/veganoitaliano-food-truck-at-highline/
LOCATION:The Highline Room at Dexter\, 3126 BROAD ST. SUITE 201\, Dexter\, MI\, 48130\, United States
CATEGORIES:Food,Food Truck
END:VEVENT
END:VCALENDAR