BEGIN:VCALENDAR
VERSION:2.0
PRODID:-//Highline Spirits - ECPv6.15.15//NONSGML v1.0//EN
CALSCALE:GREGORIAN
METHOD:PUBLISH
X-ORIGINAL-URL:https://highlinespirits.com
X-WR-CALDESC:Events for Highline Spirits
REFRESH-INTERVAL;VALUE=DURATION:PT1H
X-Robots-Tag:noindex
X-PUBLISHED-TTL:PT1H
BEGIN:VTIMEZONE
TZID:UTC
BEGIN:STANDARD
TZOFFSETFROM:+0000
TZOFFSETTO:+0000
TZNAME:UTC
DTSTART:20230101T000000
END:STANDARD
END:VTIMEZONE
BEGIN:VEVENT
DTSTART;TZID=UTC:20240913T160000
DTEND;TZID=UTC:20240913T210000
DTSTAMP:20260422T095254
CREATED:20240305T001542Z
LAST-MODIFIED:20240305T001542Z
UID:10000092-1726243200-1726261200@highlinespirits.com
SUMMARY:Simply Spanish Food Truck at Highline
DESCRIPTION:Simply Spanish Tapas and Paella. Imported authenticity in every dish\, serving up specialties from Spain in the form of tapas and paella. Oh\, and sandwiches. It’s simply the best of Spain’s exotic food\, and you’re getting it all served out of a food truck roaming in Southeast Michigan. \nhttps://yourneighborhoodbites.com/detroit/trucks/simply-spanish
URL:https://highlinespirits.com/event/simply-spanish-food-truck-at-highline/
LOCATION:The Highline Room at Dexter\, 3126 BROAD ST. SUITE 201\, Dexter\, MI\, 48130\, United States
CATEGORIES:Food,Food Truck
END:VEVENT
END:VCALENDAR