BEGIN:VCALENDAR
VERSION:2.0
PRODID:-//Highline Spirits - ECPv6.15.15//NONSGML v1.0//EN
CALSCALE:GREGORIAN
METHOD:PUBLISH
X-WR-CALNAME:Highline Spirits
X-ORIGINAL-URL:https://highlinespirits.com
X-WR-CALDESC:Events for Highline Spirits
REFRESH-INTERVAL;VALUE=DURATION:PT1H
X-Robots-Tag:noindex
X-PUBLISHED-TTL:PT1H
BEGIN:VTIMEZONE
TZID:UTC
BEGIN:STANDARD
TZOFFSETFROM:+0000
TZOFFSETTO:+0000
TZNAME:UTC
DTSTART:20230101T000000
END:STANDARD
END:VTIMEZONE
BEGIN:VEVENT
DTSTART;TZID=UTC:20240917T183000
DTEND;TZID=UTC:20240917T203000
DTSTAMP:20260420T022731
CREATED:20240809T145648Z
LAST-MODIFIED:20240817T172708Z
UID:10000136-1726597800-1726605000@highlinespirits.com
SUMMARY:Single Barrel Select Experience
DESCRIPTION:The Single Barrel Select Experience is an exclusive opportunity for the true connoisseurs in our community. Step into the Highline Spirits Tasting Room and embark on a journey through the nuanced flavors of several carefully selected barrels of Bourbon and Whiskey. Your palate guides the way as you participate in selecting the perfect barrel to be bottled and made available exclusively in our tasting room. This is more than a tasting—it’s a chance to leave your mark on a limited-edition release\, crafted by the community\, for the community.
URL:https://highlinespirits.com/event/single-barrel-select-experience/
LOCATION:The Highline Room – Plymouth\, 330 S. Main St.\, Plymouth\, MI\, 48170\, United States
CATEGORIES:Plymouth,Single-Barrel Select Class
END:VEVENT
BEGIN:VEVENT
DTSTART;TZID=UTC:20240924T183000
DTEND;TZID=UTC:20240924T203000
DTSTAMP:20260420T022731
CREATED:20240809T144548Z
LAST-MODIFIED:20240809T144548Z
UID:10000135-1727202600-1727209800@highlinespirits.com
SUMMARY:Cocktail Essentials Class
DESCRIPTION:Our Cocktail Essentials Class will teach you the foundations of making great cocktails!  You’ll learn how to make (and enjoy!) three different cocktails from our seasonal menus exclusively featuring Highline Spirits.  Enjoy the cocktails you create\, leave with the recipes and the exclusive discount on Bottles available at The Highline Room!
URL:https://highlinespirits.com/event/cocktail-essentials-class-11/
LOCATION:The Highline Room – Plymouth\, 330 S. Main St.\, Plymouth\, MI\, 48170\, United States
CATEGORIES:Cocktail Essentials Class,Plymouth
END:VEVENT
END:VCALENDAR