BEGIN:VCALENDAR
VERSION:2.0
PRODID:-//Highline Spirits - ECPv6.15.15//NONSGML v1.0//EN
CALSCALE:GREGORIAN
METHOD:PUBLISH
X-WR-CALNAME:Highline Spirits
X-ORIGINAL-URL:https://highlinespirits.com
X-WR-CALDESC:Events for Highline Spirits
REFRESH-INTERVAL;VALUE=DURATION:PT1H
X-Robots-Tag:noindex
X-PUBLISHED-TTL:PT1H
BEGIN:VTIMEZONE
TZID:UTC
BEGIN:STANDARD
TZOFFSETFROM:+0000
TZOFFSETTO:+0000
TZNAME:UTC
DTSTART:20240101T000000
END:STANDARD
END:VTIMEZONE
BEGIN:VEVENT
DTSTART;TZID=UTC:20250301T200000
DTEND;TZID=UTC:20250301T230000
DTSTAMP:20260419T172928
CREATED:20250109T175649Z
LAST-MODIFIED:20250109T175751Z
UID:10000155-1740859200-1740870000@highlinespirits.com
SUMMARY:Live Music - Jason Locke
DESCRIPTION:
URL:https://highlinespirits.com/event/live-music-devyn-mitchell-2/
LOCATION:The Highline Room – Plymouth\, 330 S. Main St.\, Plymouth\, MI\, 48170\, United States
CATEGORIES:Plymouth
END:VEVENT
BEGIN:VEVENT
DTSTART;TZID=UTC:20250307T200000
DTEND;TZID=UTC:20250307T230000
DTSTAMP:20260419T172928
CREATED:20250109T175929Z
LAST-MODIFIED:20250109T175929Z
UID:10000158-1741377600-1741388400@highlinespirits.com
SUMMARY:Live Music - James Muto
DESCRIPTION:
URL:https://highlinespirits.com/event/live-music-james-muto-3/
LOCATION:The Highline Room – Plymouth\, 330 S. Main St.\, Plymouth\, MI\, 48170\, United States
CATEGORIES:Plymouth
END:VEVENT
BEGIN:VEVENT
DTSTART;TZID=UTC:20250308T200000
DTEND;TZID=UTC:20250308T230000
DTSTAMP:20260419T172928
CREATED:20250109T175901Z
LAST-MODIFIED:20250109T175901Z
UID:10000157-1741464000-1741474800@highlinespirits.com
SUMMARY:Live Music - Jameson Jones
DESCRIPTION:
URL:https://highlinespirits.com/event/live-music-jameson-jones-2/
LOCATION:The Highline Room – Plymouth\, 330 S. Main St.\, Plymouth\, MI\, 48170\, United States
CATEGORIES:Plymouth
END:VEVENT
BEGIN:VEVENT
DTSTART;TZID=UTC:20250311T183000
DTEND;TZID=UTC:20250311T200000
DTSTAMP:20260419T172928
CREATED:20241220T200827Z
LAST-MODIFIED:20241220T200827Z
UID:10000146-1741717800-1741723200@highlinespirits.com
SUMMARY:Cocktail Essentials Class - Plymouth
DESCRIPTION:Our Cocktail Essentials Class will teach you the foundations of making great cocktails!  You’ll learn how to make (and enjoy!) three different cocktails from our seasonal menus exclusively featuring Highline Spirits.  Enjoy the cocktails you create\, leave with the recipes and the exclusive discount on Bottles available at The Highline Room!
URL:https://highlinespirits.com/event/cocktail-essentials-class-plymouth-3/
LOCATION:The Highline Room – Plymouth\, 330 S. Main St.\, Plymouth\, MI\, 48170\, United States
CATEGORIES:Cocktail Essentials Class,Plymouth
END:VEVENT
BEGIN:VEVENT
DTSTART;TZID=UTC:20250314T200000
DTEND;TZID=UTC:20250314T230000
DTSTAMP:20260419T172928
CREATED:20250114T200954Z
LAST-MODIFIED:20250114T200954Z
UID:10000194-1741982400-1741993200@highlinespirits.com
SUMMARY:Live Music - Ben Awrey
DESCRIPTION:
URL:https://highlinespirits.com/event/live-music-ben-awrey-6/2025-03-14/
LOCATION:The Highline Room – Plymouth\, 330 S. Main St.\, Plymouth\, MI\, 48170\, United States
CATEGORIES:Entertainment,Live Music,Plymouth
END:VEVENT
BEGIN:VEVENT
DTSTART;TZID=UTC:20250315T200000
DTEND;TZID=UTC:20250315T230000
DTSTAMP:20260419T172928
CREATED:20250109T180818Z
LAST-MODIFIED:20250109T180818Z
UID:10000163-1742068800-1742079600@highlinespirits.com
SUMMARY:Live Music - Devyn Mitchell
DESCRIPTION:
URL:https://highlinespirits.com/event/live-music-devyn-mitchell-4/
LOCATION:The Highline Room – Plymouth\, 330 S. Main St.\, Plymouth\, MI\, 48170\, United States
CATEGORIES:Entertainment,Live Music,Plymouth
END:VEVENT
BEGIN:VEVENT
DTSTART;TZID=UTC:20250322T200000
DTEND;TZID=UTC:20250322T230000
DTSTAMP:20260419T172928
CREATED:20250109T180748Z
LAST-MODIFIED:20250109T180748Z
UID:10000162-1742673600-1742684400@highlinespirits.com
SUMMARY:Live Music - Mike Freeman
DESCRIPTION:
URL:https://highlinespirits.com/event/live-music-mike-freeman-5/
LOCATION:The Highline Room – Plymouth\, 330 S. Main St.\, Plymouth\, MI\, 48170\, United States
CATEGORIES:Entertainment,Live Music,Plymouth
END:VEVENT
BEGIN:VEVENT
DTSTART;TZID=UTC:20250329T200000
DTEND;TZID=UTC:20250329T230000
DTSTAMP:20260419T172928
CREATED:20250109T180852Z
LAST-MODIFIED:20250109T180852Z
UID:10000164-1743278400-1743289200@highlinespirits.com
SUMMARY:Live Music - John Germain
DESCRIPTION:
URL:https://highlinespirits.com/event/live-music-john-germain-3/
LOCATION:The Highline Room – Plymouth\, 330 S. Main St.\, Plymouth\, MI\, 48170\, United States
CATEGORIES:Entertainment,Live Music,Plymouth
END:VEVENT
END:VCALENDAR