BEGIN:VCALENDAR
VERSION:2.0
PRODID:-//Highline Spirits - ECPv6.15.15//NONSGML v1.0//EN
CALSCALE:GREGORIAN
METHOD:PUBLISH
X-ORIGINAL-URL:https://highlinespirits.com
X-WR-CALDESC:Events for Highline Spirits
REFRESH-INTERVAL;VALUE=DURATION:PT1H
X-Robots-Tag:noindex
X-PUBLISHED-TTL:PT1H
BEGIN:VTIMEZONE
TZID:UTC
BEGIN:STANDARD
TZOFFSETFROM:+0000
TZOFFSETTO:+0000
TZNAME:UTC
DTSTART:20230101T000000
END:STANDARD
END:VTIMEZONE
BEGIN:VEVENT
DTSTART;TZID=UTC:20240928T130000
DTEND;TZID=UTC:20240928T150000
DTSTAMP:20260422T094834
CREATED:20240809T145856Z
LAST-MODIFIED:20240817T172601Z
UID:10000137-1727528400-1727535600@highlinespirits.com
SUMMARY:Single Barrel Select Experience
DESCRIPTION:The Single Barrel Select Experience is an exclusive opportunity for the true connoisseurs in our community. Step into the Highline Spirits Tasting Room and embark on a journey through the nuanced flavors of several carefully selected barrels of Bourbon and Whiskey. Your palate guides the way as you participate in selecting the perfect barrel to be bottled and made available exclusively in our tasting room. This is more than a tasting—it’s a chance to leave your mark on a limited-edition release\, crafted by the community\, for the community.
URL:https://highlinespirits.com/event/single-barrel-select-experience-2/
LOCATION:The Highline Room at Dexter\, 3126 BROAD ST. SUITE 201\, Dexter\, MI\, 48130\, United States
CATEGORIES:Dexter,Single-Barrel Select Class
END:VEVENT
END:VCALENDAR